BEGIN:VCALENDAR
VERSION:2.0
PRODID:-//CERN//INDICO//EN
BEGIN:VEVENT
SUMMARY:69th session
DTSTART;VALUE=DATE-TIME:20140422T060000Z
DTEND;VALUE=DATE-TIME:20140501T160000Z
DTSTAMP;VALUE=DATE-TIME:20210715T133259Z
UID:indico-event-6724@cern.ch
DESCRIPTION:https://indico.un.org/event/6724/
LOCATION:Palais des Nations
URL:https://indico.un.org/event/6724/
END:VEVENT
END:VCALENDAR
