BEGIN:VCALENDAR
VERSION:2.0
PRODID:-//CERN//INDICO//EN
BEGIN:VEVENT
SUMMARY:HRC Resolution 41/8 CEFM and Accountability: regional workshops 
DTSTART;VALUE=DATE-TIME:20210616T090000Z
DTEND;VALUE=DATE-TIME:20210616T143000Z
DTSTAMP;VALUE=DATE-TIME:20210729T213049Z
UID:indico-event-35962@cern.ch
DESCRIPTION:https://indico.un.org/event/35962/
LOCATION:Palais des Nations
URL:https://indico.un.org/event/35962/
END:VEVENT
END:VCALENDAR
