BEGIN:VCALENDAR
VERSION:2.0
PRODID:-//CERN//INDICO//EN
BEGIN:VEVENT
SUMMARY:Intersessional workshop on Cultural Heritage - HRC res. 37/17 ( A/
 HRC/37/17)
DTSTART;VALUE=DATE-TIME:20210614T130000Z
DTEND;VALUE=DATE-TIME:20210615T150000Z
DTSTAMP;VALUE=DATE-TIME:20210729T213808Z
UID:indico-event-35903@cern.ch
DESCRIPTION:https://indico.un.org/event/35903/
LOCATION:Palais des Nations
URL:https://indico.un.org/event/35903/
END:VEVENT
END:VCALENDAR
