BEGIN:VCALENDAR
VERSION:2.0
PRODID:-//CERN//INDICO//EN
BEGIN:VEVENT
SUMMARY:International Day of Reflection on the 1994 Genocide against the T
 utsi in Rwanda
DTSTART;VALUE=DATE-TIME:20210407T130000Z
DTEND;VALUE=DATE-TIME:20210407T143000Z
DTSTAMP;VALUE=DATE-TIME:20210801T161349Z
UID:indico-event-35901@cern.ch
DESCRIPTION:https://indico.un.org/event/35901/
LOCATION:Palais des Nations
URL:https://indico.un.org/event/35901/
END:VEVENT
END:VCALENDAR
