BEGIN:VCALENDAR
VERSION:2.0
PRODID:-//CERN//INDICO//EN
BEGIN:VEVENT
SUMMARY:SIXTY SEVENTH SESSION OF THE REGIONAL COMMITTEE FOR THE EASTERN ME
 DITERRANEAN
DTSTART;VALUE=DATE-TIME:20201012T060000Z
DTEND;VALUE=DATE-TIME:20201013T160000Z
DTSTAMP;VALUE=DATE-TIME:20210627T161253Z
UID:indico-event-34466@cern.ch
DESCRIPTION:67th Session of the Regional Committee for the Eastern Mediter
 ranean\n\nhttps://indico.un.org/event/34466/
LOCATION:WHO Regional Office\, Cairo\, Egypt
URL:https://indico.un.org/event/34466/
END:VEVENT
END:VCALENDAR
