BEGIN:VCALENDAR
VERSION:2.0
PRODID:-//CERN//INDICO//EN
BEGIN:VEVENT
SUMMARY:Regional Meeting on IMAP Implementation Best Practices\, Gaps and 
 Common Challenges
DTSTART;VALUE=DATE-TIME:20180710T070000Z
DTEND;VALUE=DATE-TIME:20180712T153000Z
DTSTAMP;VALUE=DATE-TIME:20210711T053302Z
UID:indico-event-25680@cern.ch
DESCRIPTION:https://indico.un.org/event/25680/
LOCATION:IFAD
URL:https://indico.un.org/event/25680/
END:VEVENT
END:VCALENDAR
