BEGIN:VCALENDAR
VERSION:2.0
PRODID:-//CERN//INDICO//EN
BEGIN:VEVENT
SUMMARY:91st session
DTSTART;VALUE=DATE-TIME:20210906T080000Z
DTEND;VALUE=DATE-TIME:20210910T160000Z
DTSTAMP;VALUE=DATE-TIME:20210715T133554Z
UID:indico-event-35538@cern.ch
DESCRIPTION:https://indico.un.org/event/35538/
LOCATION:Palais des Nations
URL:https://indico.un.org/event/35538/
END:VEVENT
BEGIN:VEVENT
SUMMARY:92nd session
DTSTART;VALUE=DATE-TIME:20211115T090000Z
DTEND;VALUE=DATE-TIME:20211119T170000Z
DTSTAMP;VALUE=DATE-TIME:20210715T133554Z
UID:indico-event-36208@cern.ch
DESCRIPTION:https://indico.un.org/event/36208/
LOCATION:Palais des Nations
URL:https://indico.un.org/event/36208/
END:VEVENT
BEGIN:VEVENT
SUMMARY:93rd session
DTSTART;VALUE=DATE-TIME:20220404T080000Z
DTEND;VALUE=DATE-TIME:20220413T160000Z
DTSTAMP;VALUE=DATE-TIME:20210715T133554Z
UID:indico-event-34679@cern.ch
DESCRIPTION:https://indico.un.org/event/34679/
LOCATION:Palais des Nations
URL:https://indico.un.org/event/34679/
END:VEVENT
BEGIN:VEVENT
SUMMARY:94th session
DTSTART;VALUE=DATE-TIME:20220822T080000Z
DTEND;VALUE=DATE-TIME:20220826T160000Z
DTSTAMP;VALUE=DATE-TIME:20210715T133554Z
UID:indico-event-34680@cern.ch
DESCRIPTION:https://indico.un.org/event/34680/
LOCATION:Palais des Nations
URL:https://indico.un.org/event/34680/
END:VEVENT
BEGIN:VEVENT
SUMMARY:95th session
DTSTART;VALUE=DATE-TIME:20221114T090000Z
DTEND;VALUE=DATE-TIME:20221118T170000Z
DTSTAMP;VALUE=DATE-TIME:20210715T133554Z
UID:indico-event-34681@cern.ch
DESCRIPTION:https://indico.un.org/event/34681/
LOCATION:Palais des Nations
URL:https://indico.un.org/event/34681/
END:VEVENT
END:VCALENDAR
