BEGIN:VCALENDAR
VERSION:2.0
PRODID:-//CERN//INDICO//EN
BEGIN:VEVENT
SUMMARY:G77 Ministerial 
DTSTART;VALUE=DATE-TIME:20211001T120000Z
DTEND;VALUE=DATE-TIME:20211001T140000Z
DTSTAMP;VALUE=DATE-TIME:20210605T201406Z
UID:indico-event-35961@cern.ch
DESCRIPTION:https://indico.un.org/event/35961/
LOCATION:Palais des Nations
URL:https://indico.un.org/event/35961/
END:VEVENT
BEGIN:VEVENT
SUMMARY:Senior officials of G77 
DTSTART;VALUE=DATE-TIME:20211001T080000Z
DTEND;VALUE=DATE-TIME:20211001T100000Z
DTSTAMP;VALUE=DATE-TIME:20210605T201406Z
UID:indico-event-35972@cern.ch
DESCRIPTION:https://indico.un.org/event/35972/
LOCATION:Palais des Nations
URL:https://indico.un.org/event/35972/
END:VEVENT
END:VCALENDAR
