BEGIN:VCALENDAR
VERSION:2.0
PRODID:-//CERN//INDICO//EN
BEGIN:VEVENT
SUMMARY:Informal Working Group meeting
DTSTART;VALUE=DATE-TIME:20210618T090000Z
DTEND;VALUE=DATE-TIME:20210618T110000Z
DTSTAMP;VALUE=DATE-TIME:20210613T033407Z
UID:indico-event-35899@cern.ch
DESCRIPTION:https://indico.un.org/event/35899/
LOCATION:Palais des Nations
URL:https://indico.un.org/event/35899/
END:VEVENT
BEGIN:VEVENT
SUMMARY:88th session of the Governing Council
DTSTART;VALUE=DATE-TIME:20211013T080000Z
DTEND;VALUE=DATE-TIME:20211013T160000Z
DTSTAMP;VALUE=DATE-TIME:20210613T033407Z
UID:indico-event-35385@cern.ch
DESCRIPTION:https://indico.un.org/event/35385/
LOCATION:Palais des Nations
URL:https://indico.un.org/event/35385/
END:VEVENT
BEGIN:VEVENT
SUMMARY:89th session of the Governing Council
DTSTART;VALUE=DATE-TIME:20220330T080000Z
DTEND;VALUE=DATE-TIME:20220330T160000Z
DTSTAMP;VALUE=DATE-TIME:20210613T033407Z
UID:indico-event-35503@cern.ch
DESCRIPTION:https://indico.un.org/event/35503/
LOCATION:Palais des Nations
URL:https://indico.un.org/event/35503/
END:VEVENT
END:VCALENDAR
