BEGIN:VCALENDAR
VERSION:2.0
PRODID:-//CERN//INDICO//EN
BEGIN:VEVENT
SUMMARY:CANCELLED - Annual session
DTSTART;VALUE=DATE-TIME:20210503T080000Z
DTEND;VALUE=DATE-TIME:20210507T160000Z
DTSTAMP;VALUE=DATE-TIME:20210605T201157Z
UID:indico-event-20131@cern.ch
DESCRIPTION:https://indico.un.org/event/20131/
LOCATION:Palais des Nations
URL:https://indico.un.org/event/20131/
END:VEVENT
BEGIN:VEVENT
SUMMARY:CANCELLED - Preparatory Committee for UNCTAD 15 
DTSTART;VALUE=DATE-TIME:20210505T080000Z
DTEND;VALUE=DATE-TIME:20210507T150000Z
DTSTAMP;VALUE=DATE-TIME:20210605T201157Z
UID:indico-event-35811@cern.ch
DESCRIPTION:https://indico.un.org/event/35811/
LOCATION:Palais des Nations
URL:https://indico.un.org/event/35811/
END:VEVENT
BEGIN:VEVENT
SUMMARY:UNIDIR Donor Forum
DTSTART;VALUE=DATE-TIME:20210506T070000Z
DTEND;VALUE=DATE-TIME:20210506T090000Z
DTSTAMP;VALUE=DATE-TIME:20210605T201157Z
UID:indico-event-35924@cern.ch
DESCRIPTION:https://indico.un.org/event/35924/
LOCATION:Palais des Nations
URL:https://indico.un.org/event/35924/
END:VEVENT
BEGIN:VEVENT
SUMMARY:Short course for Geneva-based diplomats 
DTSTART;VALUE=DATE-TIME:20210507T080000Z
DTEND;VALUE=DATE-TIME:20210507T100000Z
DTSTAMP;VALUE=DATE-TIME:20210605T201157Z
UID:indico-event-35590@cern.ch
DESCRIPTION:https://indico.un.org/event/35590/
LOCATION:Palais des Nations
URL:https://indico.un.org/event/35590/
END:VEVENT
BEGIN:VEVENT
SUMMARY:2nd Part
DTSTART;VALUE=DATE-TIME:20210510T080000Z
DTEND;VALUE=DATE-TIME:20210625T160000Z
DTSTAMP;VALUE=DATE-TIME:20210605T201157Z
UID:indico-event-29586@cern.ch
DESCRIPTION:https://indico.un.org/event/29586/
LOCATION:Palais des Nations
URL:https://indico.un.org/event/29586/
END:VEVENT
BEGIN:VEVENT
SUMMARY:Virtual Launch and Discussion: Spanish Translation of A Handbook t
 o Profile Small Arms Ammunition in Armed Violence Settings
DTSTART;VALUE=DATE-TIME:20210510T120000Z
DTEND;VALUE=DATE-TIME:20210510T160000Z
DTSTAMP;VALUE=DATE-TIME:20210605T201157Z
UID:indico-event-35758@cern.ch
DESCRIPTION:https://indico.un.org/event/35758/
LOCATION:Palais des Nations
URL:https://indico.un.org/event/35758/
END:VEVENT
BEGIN:VEVENT
SUMMARY:154th Meeting of the Committee of Permanent Representatives
DTSTART;VALUE=DATE-TIME:20210520T050000Z
DTEND;VALUE=DATE-TIME:20210520T150000Z
DTSTAMP;VALUE=DATE-TIME:20210605T201157Z
UID:indico-event-35943@cern.ch
DESCRIPTION:https://indico.un.org/event/35943/
LOCATION:Online
URL:https://indico.un.org/event/35943/
END:VEVENT
BEGIN:VEVENT
SUMMARY:Second Meeting to review Regional Plans for Urban Wastewater Treat
 ment\, Sewage Sludge Management and Marine Litter Management in the Medite
 rranean: 25-26 May 2021
DTSTART;VALUE=DATE-TIME:20210525T063000Z
DTEND;VALUE=DATE-TIME:20210526T150000Z
DTSTAMP;VALUE=DATE-TIME:20210605T201157Z
UID:indico-event-35875@cern.ch
DESCRIPTION:https://indico.un.org/event/35875/
LOCATION:Online
URL:https://indico.un.org/event/35875/
END:VEVENT
BEGIN:VEVENT
SUMMARY:1st Part of MEDPOL Focal Points Meeting 27-28 May 2021
DTSTART;VALUE=DATE-TIME:20210527T063000Z
DTEND;VALUE=DATE-TIME:20210528T150000Z
DTSTAMP;VALUE=DATE-TIME:20210605T201157Z
UID:indico-event-35876@cern.ch
DESCRIPTION:https://indico.un.org/event/35876/
LOCATION:Online
URL:https://indico.un.org/event/35876/
END:VEVENT
BEGIN:VEVENT
SUMMARY:19th Meeting of the MCSD
DTSTART;VALUE=DATE-TIME:20210607T063000Z
DTEND;VALUE=DATE-TIME:20210609T150000Z
DTSTAMP;VALUE=DATE-TIME:20210605T201157Z
UID:indico-event-35940@cern.ch
DESCRIPTION:https://indico.un.org/event/35940/
LOCATION:Online
URL:https://indico.un.org/event/35940/
END:VEVENT
BEGIN:VEVENT
SUMMARY:Virtual Launch of Spanish version of the Ammunition Profiling Hand
 book 
DTSTART;VALUE=DATE-TIME:20210608T120000Z
DTEND;VALUE=DATE-TIME:20210608T173000Z
DTSTAMP;VALUE=DATE-TIME:20210605T201157Z
UID:indico-event-35815@cern.ch
DESCRIPTION:https://indico.un.org/event/35815/
LOCATION:Palais des Nations
URL:https://indico.un.org/event/35815/
END:VEVENT
BEGIN:VEVENT
SUMMARY:CANCELLED meeting
DTSTART;VALUE=DATE-TIME:20210608T080000Z
DTEND;VALUE=DATE-TIME:20210608T160000Z
DTSTAMP;VALUE=DATE-TIME:20210605T201157Z
UID:indico-event-36070@cern.ch
DESCRIPTION:https://indico.un.org/event/36070/
LOCATION:Palais des Nations
URL:https://indico.un.org/event/36070/
END:VEVENT
BEGIN:VEVENT
SUMMARY:CANCELLED meeting
DTSTART;VALUE=DATE-TIME:20210609T140000Z
DTEND;VALUE=DATE-TIME:20210609T160000Z
DTSTAMP;VALUE=DATE-TIME:20210605T201157Z
UID:indico-event-35968@cern.ch
DESCRIPTION:https://indico.un.org/event/35968/
LOCATION:Palais des Nations
URL:https://indico.un.org/event/35968/
END:VEVENT
BEGIN:VEVENT
SUMMARY:Follow-up to the report of the ad hoc open-ended working group est
 ablished pursuant to General Assembly resolution 72/277 
DTSTART;VALUE=DATE-TIME:20210609T050000Z
DTEND;VALUE=DATE-TIME:20210707T150000Z
DTSTAMP;VALUE=DATE-TIME:20210605T201157Z
UID:indico-event-36062@cern.ch
DESCRIPTION:Description: A workshop on implementation of United Nations Ge
 neral Assembly resolution 73/333\, entitled “Follow-up to the report of 
 the ad hoc open-ended working group established pursuant to General Assemb
 ly resolution 72/277” is being convened in accordance with decision made
  by the Bureau of the Committee of Permanent Representatives (CPR). On 12 
 May 2021 the Bureau of the CPR decided to convene a series of online infor
 mal workshops with all Member States\, Members of Specialized Agencies and
  Accredited Stakeholders.\n\nThe Co-facilitators have designed the provisi
 onal programme in such a way that the workshop will provide the opportunit
 y for informed and in-depth discussions on the inputs received to the firs
 t draft of the building blocks of a political declaration circulated on 7 
 October 2020.\n\nRepresentatives registered for the first informal worksho
 p on implementation of United Nations General Assembly resolution 73/333 w
 ill be automatically registered for the subsequent informal workshops.\n\n
 https://indico.un.org/event/36062/
LOCATION:Online
URL:https://indico.un.org/event/36062/
END:VEVENT
BEGIN:VEVENT
SUMMARY:UN Trade Forum 2021 and Prebisch Lecture 
DTSTART;VALUE=DATE-TIME:20210614T080000Z
DTEND;VALUE=DATE-TIME:20210615T160000Z
DTSTAMP;VALUE=DATE-TIME:20210605T201157Z
UID:indico-event-35860@cern.ch
DESCRIPTION:https://indico.un.org/event/35860/
LOCATION:Palais des Nations
URL:https://indico.un.org/event/35860/
END:VEVENT
BEGIN:VEVENT
SUMMARY:2021 JIU Summer Session 
DTSTART;VALUE=DATE-TIME:20210622T070000Z
DTEND;VALUE=DATE-TIME:20210623T170000Z
DTSTAMP;VALUE=DATE-TIME:20210605T201157Z
UID:indico-event-36086@cern.ch
DESCRIPTION:https://indico.un.org/event/36086/
LOCATION:Palais des Nations
URL:https://indico.un.org/event/36086/
END:VEVENT
BEGIN:VEVENT
SUMMARY:57th session
DTSTART;VALUE=DATE-TIME:20210705T080000Z
DTEND;VALUE=DATE-TIME:20210723T160000Z
DTSTAMP;VALUE=DATE-TIME:20210605T201157Z
UID:indico-event-20124@cern.ch
DESCRIPTION:https://indico.un.org/event/20124/
LOCATION:Palais des Nations
URL:https://indico.un.org/event/20124/
END:VEVENT
BEGIN:VEVENT
SUMMARY:5th session
DTSTART;VALUE=DATE-TIME:20210705T080000Z
DTEND;VALUE=DATE-TIME:20210706T150000Z
DTSTAMP;VALUE=DATE-TIME:20210605T201157Z
UID:indico-event-34689@cern.ch
DESCRIPTION:https://indico.un.org/event/34689/
LOCATION:Palais des Nations
URL:https://indico.un.org/event/34689/
END:VEVENT
BEGIN:VEVENT
SUMMARY:19th Session
DTSTART;VALUE=DATE-TIME:20210707T080000Z
DTEND;VALUE=DATE-TIME:20210709T150000Z
DTSTAMP;VALUE=DATE-TIME:20210605T201157Z
UID:indico-event-35381@cern.ch
DESCRIPTION:https://indico.un.org/event/35381/
LOCATION:Palais des Nations
URL:https://indico.un.org/event/35381/
END:VEVENT
BEGIN:VEVENT
SUMMARY:Preparatory Committee for UNCTAD 15 
DTSTART;VALUE=DATE-TIME:20210719T080000Z
DTEND;VALUE=DATE-TIME:20210719T150000Z
DTSTAMP;VALUE=DATE-TIME:20210605T201157Z
UID:indico-event-36093@cern.ch
DESCRIPTION:https://indico.un.org/event/36093/
LOCATION:Palais des Nations
URL:https://indico.un.org/event/36093/
END:VEVENT
BEGIN:VEVENT
SUMMARY:3rd Part
DTSTART;VALUE=DATE-TIME:20210726T080000Z
DTEND;VALUE=DATE-TIME:20210910T160000Z
DTSTAMP;VALUE=DATE-TIME:20210605T201157Z
UID:indico-event-29587@cern.ch
DESCRIPTION:https://indico.un.org/event/29587/
LOCATION:Palais des Nations
URL:https://indico.un.org/event/29587/
END:VEVENT
BEGIN:VEVENT
SUMMARY:CANCELLED - Creative Industries Forum 2021
DTSTART;VALUE=DATE-TIME:20210830T080000Z
DTEND;VALUE=DATE-TIME:20210901T160000Z
DTSTAMP;VALUE=DATE-TIME:20210605T201157Z
UID:indico-event-36097@cern.ch
DESCRIPTION:https://indico.un.org/event/36097/
LOCATION:Palais des Nations
URL:https://indico.un.org/event/36097/
END:VEVENT
BEGIN:VEVENT
SUMMARY:32nd Special session
DTSTART;VALUE=DATE-TIME:20210906T080000Z
DTEND;VALUE=DATE-TIME:20210908T150000Z
DTSTAMP;VALUE=DATE-TIME:20210605T201157Z
UID:indico-event-35584@cern.ch
DESCRIPTION:https://indico.un.org/event/35584/
LOCATION:Palais des Nations
URL:https://indico.un.org/event/35584/
END:VEVENT
BEGIN:VEVENT
SUMMARY:Global Commodities Forum 2021
DTSTART;VALUE=DATE-TIME:20210913T120000Z
DTEND;VALUE=DATE-TIME:20210915T140000Z
DTSTAMP;VALUE=DATE-TIME:20210605T201157Z
UID:indico-event-36065@cern.ch
DESCRIPTION:https://indico.un.org/event/36065/
LOCATION:Palais des Nations
URL:https://indico.un.org/event/36065/
END:VEVENT
BEGIN:VEVENT
SUMMARY:Short course for Geneva-based diplomats\, 2nd semester
DTSTART;VALUE=DATE-TIME:20210914T080000Z
DTEND;VALUE=DATE-TIME:20210914T100000Z
DTSTAMP;VALUE=DATE-TIME:20210605T201157Z
UID:indico-event-35914@cern.ch
DESCRIPTION:https://indico.un.org/event/35914/
LOCATION:Palais des Nations
URL:https://indico.un.org/event/35914/
END:VEVENT
BEGIN:VEVENT
SUMMARY:ITC Annual JAG 2021 Meeting
DTSTART;VALUE=DATE-TIME:20210922T080000Z
DTEND;VALUE=DATE-TIME:20210922T160000Z
DTSTAMP;VALUE=DATE-TIME:20210605T201157Z
UID:indico-event-36076@cern.ch
DESCRIPTION:https://indico.un.org/event/36076/
LOCATION:WTO (Geneva)
URL:https://indico.un.org/event/36076/
END:VEVENT
BEGIN:VEVENT
SUMMARY:Civil Society Forum 2021
DTSTART;VALUE=DATE-TIME:20210922T120000Z
DTEND;VALUE=DATE-TIME:20210924T140000Z
DTSTAMP;VALUE=DATE-TIME:20210605T201157Z
UID:indico-event-36077@cern.ch
DESCRIPTION:https://indico.un.org/event/36077/
LOCATION:Palais des Nations
URL:https://indico.un.org/event/36077/
END:VEVENT
BEGIN:VEVENT
SUMMARY:Side event to 15th session (UNCTAD XV)
DTSTART;VALUE=DATE-TIME:20211004T080000Z
DTEND;VALUE=DATE-TIME:20211007T160000Z
DTSTAMP;VALUE=DATE-TIME:20210605T201157Z
UID:indico-event-36042@cern.ch
DESCRIPTION:https://indico.un.org/event/36042/
LOCATION:Palais des Nations
URL:https://indico.un.org/event/36042/
END:VEVENT
BEGIN:VEVENT
SUMMARY:Short course for Geneva-based diplomats\, 2nd semester
DTSTART;VALUE=DATE-TIME:20211014T080000Z
DTEND;VALUE=DATE-TIME:20211014T110000Z
DTSTAMP;VALUE=DATE-TIME:20210605T201157Z
UID:indico-event-35917@cern.ch
DESCRIPTION:https://indico.un.org/event/35917/
LOCATION:Palais des Nations
URL:https://indico.un.org/event/35917/
END:VEVENT
BEGIN:VEVENT
SUMMARY:E-commerce Week for Asia 
DTSTART;VALUE=DATE-TIME:20211017T080000Z
DTEND;VALUE=DATE-TIME:20211021T160000Z
DTSTAMP;VALUE=DATE-TIME:20210605T201157Z
UID:indico-event-35597@cern.ch
DESCRIPTION:https://indico.un.org/event/35597/
LOCATION:Abu Dhabi
URL:https://indico.un.org/event/35597/
END:VEVENT
BEGIN:VEVENT
SUMMARY:World Investment Forum 2021
DTSTART;VALUE=DATE-TIME:20211017T080000Z
DTEND;VALUE=DATE-TIME:20211021T160000Z
DTSTAMP;VALUE=DATE-TIME:20210605T201157Z
UID:indico-event-35598@cern.ch
DESCRIPTION:https://indico.un.org/event/35598/
LOCATION:Abu Dhabi
URL:https://indico.un.org/event/35598/
END:VEVENT
BEGIN:VEVENT
SUMMARY:Intergovernmental Forum on Mining\, Minerals\, Metals and Sustaina
 ble Development 
DTSTART;VALUE=DATE-TIME:20211025T080000Z
DTEND;VALUE=DATE-TIME:20211029T160000Z
DTSTAMP;VALUE=DATE-TIME:20210605T201157Z
UID:indico-event-35586@cern.ch
DESCRIPTION:https://indico.un.org/event/35586/
LOCATION:Palais des Nations
URL:https://indico.un.org/event/35586/
END:VEVENT
BEGIN:VEVENT
SUMMARY:CANCELLED - 38th Session
DTSTART;VALUE=DATE-TIME:20211101T090000Z
DTEND;VALUE=DATE-TIME:20211103T170000Z
DTSTAMP;VALUE=DATE-TIME:20210605T201157Z
UID:indico-event-20205@cern.ch
DESCRIPTION:https://indico.un.org/event/20205/
LOCATION:Palais des Nations
URL:https://indico.un.org/event/20205/
END:VEVENT
BEGIN:VEVENT
SUMMARY:82nd Session
DTSTART;VALUE=DATE-TIME:20211101T090000Z
DTEND;VALUE=DATE-TIME:20211105T170000Z
DTSTAMP;VALUE=DATE-TIME:20210605T201157Z
UID:indico-event-35078@cern.ch
DESCRIPTION:https://indico.un.org/event/35078/
LOCATION:Palais des Nations
URL:https://indico.un.org/event/35078/
END:VEVENT
BEGIN:VEVENT
SUMMARY:Short course for Geneva-based diplomats\, 2nd semester
DTSTART;VALUE=DATE-TIME:20211108T090000Z
DTEND;VALUE=DATE-TIME:20211108T170000Z
DTSTAMP;VALUE=DATE-TIME:20210605T201157Z
UID:indico-event-35915@cern.ch
DESCRIPTION:https://indico.un.org/event/35915/
LOCATION:Palais des Nations
URL:https://indico.un.org/event/35915/
END:VEVENT
BEGIN:VEVENT
SUMMARY: Annual Accounting Workshop
DTSTART;VALUE=DATE-TIME:20211109T090000Z
DTEND;VALUE=DATE-TIME:20211109T170000Z
DTSTAMP;VALUE=DATE-TIME:20210605T201157Z
UID:indico-event-35795@cern.ch
DESCRIPTION:https://indico.un.org/event/35795/
LOCATION:Palais des Nations
URL:https://indico.un.org/event/35795/
END:VEVENT
BEGIN:VEVENT
SUMMARY:38th Session
DTSTART;VALUE=DATE-TIME:20211110T090000Z
DTEND;VALUE=DATE-TIME:20211112T170000Z
DTSTAMP;VALUE=DATE-TIME:20210605T201157Z
UID:indico-event-35798@cern.ch
DESCRIPTION:https://indico.un.org/event/35798/
LOCATION:Palais des Nations
URL:https://indico.un.org/event/35798/
END:VEVENT
BEGIN:VEVENT
SUMMARY:Short course for Geneva-based diplomats\, 2nd semester
DTSTART;VALUE=DATE-TIME:20211116T090000Z
DTEND;VALUE=DATE-TIME:20211116T170000Z
DTSTAMP;VALUE=DATE-TIME:20210605T201157Z
UID:indico-event-35916@cern.ch
DESCRIPTION:https://indico.un.org/event/35916/
LOCATION:Palais des Nations
URL:https://indico.un.org/event/35916/
END:VEVENT
BEGIN:VEVENT
SUMMARY:Intersessional Panel of the UN CSTD
DTSTART;VALUE=DATE-TIME:20211117T090000Z
DTEND;VALUE=DATE-TIME:20211119T160000Z
DTSTAMP;VALUE=DATE-TIME:20210605T201157Z
UID:indico-event-36013@cern.ch
DESCRIPTION:https://indico.un.org/event/36013/
LOCATION:Palais des Nations
URL:https://indico.un.org/event/36013/
END:VEVENT
BEGIN:VEVENT
SUMMARY:European Freight Leaders Meeting with UNCTAD
DTSTART;VALUE=DATE-TIME:20211118T090000Z
DTEND;VALUE=DATE-TIME:20211119T170000Z
DTSTAMP;VALUE=DATE-TIME:20210605T201157Z
UID:indico-event-35719@cern.ch
DESCRIPTION:https://indico.un.org/event/35719/
LOCATION:Palais des Nations
URL:https://indico.un.org/event/35719/
END:VEVENT
BEGIN:VEVENT
SUMMARY:CANCELLED - 13th International Debt Management Conference
DTSTART;VALUE=DATE-TIME:20211122T090000Z
DTEND;VALUE=DATE-TIME:20211124T170000Z
DTSTAMP;VALUE=DATE-TIME:20210605T201157Z
UID:indico-event-35434@cern.ch
DESCRIPTION:https://indico.un.org/event/35434/
LOCATION:Palais des Nations
URL:https://indico.un.org/event/35434/
END:VEVENT
BEGIN:VEVENT
SUMMARY:CANCELLED - DMFAS Programme Advisory Group meeting
DTSTART;VALUE=DATE-TIME:20211125T090000Z
DTEND;VALUE=DATE-TIME:20211126T170000Z
DTSTAMP;VALUE=DATE-TIME:20210605T201157Z
UID:indico-event-35436@cern.ch
DESCRIPTION:https://indico.un.org/event/35436/
LOCATION:Palais des Nations
URL:https://indico.un.org/event/35436/
END:VEVENT
BEGIN:VEVENT
SUMMARY:71st Executive session
DTSTART;VALUE=DATE-TIME:20211129T090000Z
DTEND;VALUE=DATE-TIME:20211203T170000Z
DTSTAMP;VALUE=DATE-TIME:20210605T201157Z
UID:indico-event-35585@cern.ch
DESCRIPTION:https://indico.un.org/event/35585/
LOCATION:Palais des Nations
URL:https://indico.un.org/event/35585/
END:VEVENT
BEGIN:VEVENT
SUMMARY:Pledging Conference
DTSTART;VALUE=DATE-TIME:20211207T090000Z
DTEND;VALUE=DATE-TIME:20211207T170000Z
DTSTAMP;VALUE=DATE-TIME:20210605T201157Z
UID:indico-event-20216@cern.ch
DESCRIPTION:https://indico.un.org/event/20216/
LOCATION:Palais des Nations
URL:https://indico.un.org/event/20216/
END:VEVENT
BEGIN:VEVENT
SUMMARY:56th session
DTSTART;VALUE=DATE-TIME:20220704T080000Z
DTEND;VALUE=DATE-TIME:20220722T160000Z
DTSTAMP;VALUE=DATE-TIME:20210605T201157Z
UID:indico-event-20128@cern.ch
DESCRIPTION:https://indico.un.org/event/20128/
LOCATION:Palais des Nations
URL:https://indico.un.org/event/20128/
END:VEVENT
BEGIN:VEVENT
SUMMARY:Pledging Conference
DTSTART;VALUE=DATE-TIME:20221206T090000Z
DTEND;VALUE=DATE-TIME:20221206T120000Z
DTSTAMP;VALUE=DATE-TIME:20210605T201157Z
UID:indico-event-35967@cern.ch
DESCRIPTION:https://indico.un.org/event/35967/
LOCATION:Palais des Nations
URL:https://indico.un.org/event/35967/
END:VEVENT
END:VCALENDAR
