BEGIN:VCALENDAR
VERSION:2.0
PRODID:-//CERN//INDICO//EN
BEGIN:VEVENT
SUMMARY:Webinar on COVID-19 and Maritime Transport: Disruption and Resilie
 nce in Africa
DTSTART;VALUE=DATE-TIME:20210415T070000Z
DTEND;VALUE=DATE-TIME:20210415T090000Z
DTSTAMP;VALUE=DATE-TIME:20210721T150810Z
UID:indico-event-35926@cern.ch
DESCRIPTION:https://indico.un.org/event/35926/
LOCATION:Palais des Nations
URL:https://indico.un.org/event/35926/
END:VEVENT
END:VCALENDAR
