BEGIN:VCALENDAR
VERSION:2.0
PRODID:-//CERN//INDICO//EN
BEGIN:VEVENT
SUMMARY:Meeting on NBB Methodologies\, Evaluations and Assessments for Nat
 ional and Regional Action Plans under the LBS Protocol\, 22-23 April 2021
DTSTART;VALUE=DATE-TIME:20210422T060000Z
DTEND;VALUE=DATE-TIME:20210423T150000Z
DTSTAMP;VALUE=DATE-TIME:20210711T054041Z
UID:indico-event-35828@cern.ch
DESCRIPTION:https://indico.un.org/event/35828/
LOCATION:Online
URL:https://indico.un.org/event/35828/
END:VEVENT
END:VCALENDAR
