BEGIN:VCALENDAR
VERSION:2.0
PRODID:-//CERN//INDICO//EN
BEGIN:VEVENT
SUMMARY:CANCELLED - Preparatory Committee for UNCTAD 15 
DTSTART;VALUE=DATE-TIME:20210505T080000Z
DTEND;VALUE=DATE-TIME:20210507T150000Z
DTSTAMP;VALUE=DATE-TIME:20210721T150735Z
UID:indico-event-35811@cern.ch
DESCRIPTION:https://indico.un.org/event/35811/
LOCATION:Palais des Nations
URL:https://indico.un.org/event/35811/
END:VEVENT
END:VCALENDAR
