BEGIN:VCALENDAR
VERSION:2.0
PRODID:-//CERN//INDICO//EN
BEGIN:VEVENT
SUMMARY:CANCELLED - Preparatory Committee for UNCTAD 15 
DTSTART;VALUE=DATE-TIME:20210406T080000Z
DTEND;VALUE=DATE-TIME:20210409T160000Z
DTSTAMP;VALUE=DATE-TIME:20210721T151055Z
UID:indico-event-35809@cern.ch
DESCRIPTION:https://indico.un.org/event/35809/
LOCATION:Palais des Nations
URL:https://indico.un.org/event/35809/
END:VEVENT
END:VCALENDAR
