BEGIN:VCALENDAR
VERSION:2.0
PRODID:-//CERN//INDICO//EN
BEGIN:VEVENT
SUMMARY:Short course for Geneva-based diplomats 
DTSTART;VALUE=DATE-TIME:20210507T080000Z
DTEND;VALUE=DATE-TIME:20210507T100000Z
DTSTAMP;VALUE=DATE-TIME:20210721T150724Z
UID:indico-event-35590@cern.ch
DESCRIPTION:https://indico.un.org/event/35590/
LOCATION:Palais des Nations
URL:https://indico.un.org/event/35590/
END:VEVENT
END:VCALENDAR
