BEGIN:VCALENDAR
VERSION:2.0
PRODID:-//CERN//INDICO//EN
BEGIN:VEVENT
SUMMARY:CANCELLED - Preparatory Committee for UNCTAD 15 
DTSTART;VALUE=DATE-TIME:20210426T080000Z
DTEND;VALUE=DATE-TIME:20210430T150000Z
DTSTAMP;VALUE=DATE-TIME:20210721T150759Z
UID:indico-event-35588@cern.ch
DESCRIPTION:https://indico.un.org/event/35588/
LOCATION:Palais des Nations
URL:https://indico.un.org/event/35588/
END:VEVENT
END:VCALENDAR
