BEGIN:VCALENDAR
VERSION:2.0
PRODID:-//CERN//INDICO//EN
BEGIN:VEVENT
SUMMARY:Working Group Measuring E-commerce and the Digital Economy 
DTSTART;VALUE=DATE-TIME:20210503T090000Z
DTEND;VALUE=DATE-TIME:20210504T150000Z
DTSTAMP;VALUE=DATE-TIME:20210721T150747Z
UID:indico-event-35578@cern.ch
DESCRIPTION:https://indico.un.org/event/35578/
LOCATION:Palais des Nations
URL:https://indico.un.org/event/35578/
END:VEVENT
END:VCALENDAR
