BEGIN:VCALENDAR
VERSION:2.0
PRODID:-//CERN//INDICO//EN
BEGIN:VEVENT
SUMMARY:90th session
DTSTART;VALUE=DATE-TIME:20210503T080000Z
DTEND;VALUE=DATE-TIME:20210512T160000Z
DTSTAMP;VALUE=DATE-TIME:20210715T133630Z
UID:indico-event-33675@cern.ch
DESCRIPTION:https://indico.un.org/event/33675/
LOCATION:Virtual
URL:https://indico.un.org/event/33675/
END:VEVENT
END:VCALENDAR
