BEGIN:VCALENDAR
VERSION:2.0
PRODID:-//CERN//INDICO//EN
BEGIN:VEVENT
SUMMARY:Forum on Armed Groups Meeting- 21 April 2026
DTSTART:20260421T120000Z
DTEND:20260421T133000Z
DTSTAMP:20260419T213900Z
UID:indico-event-1023313@indico.un.org
CONTACT:busra.topcu@un.org
DESCRIPTION:https://indico.un.org/event/1023313/
LOCATION:H.417 (Palais des Nations)
URL:https://indico.un.org/event/1023313/
END:VEVENT
END:VCALENDAR
