BEGIN:VCALENDAR
VERSION:2.0
PRODID:-//CERN//INDICO//EN
BEGIN:VEVENT
SUMMARY:Programa de visitas académicas CEPAL 01-2026
DTSTART:20260429T140000Z
DTEND:20260429T170000Z
DTSTAMP:20260421T150200Z
UID:indico-event-1023213@indico.un.org
CONTACT:jaime.rojasgarcia@un.org
DESCRIPTION:La CEPAL recibe visitas grupales de instituciones de educació
 n superior y secundaria\; y de entidades gubernamentales de todo el mundo.
  El programa de visitas opera de marzo a noviembre (excepto julio) y está
  disponible los miércoles entre las 9:30 a.m. y las 12:30 p.m. Las visita
 s para universidades u otras entidades se programan una vez al mes\, mient
 ras que para estudiantes de educación secundaria de los últimos dos año
 s (tercero o cuarto medio en Chile)\, se realizan de forma semestral.\n\nh
 ttps://indico.un.org/event/1023213/
LOCATION:Sala Raul Prebisch (United Nations Economic Commission for Latin 
 America and the Caribbean (ECLAC) Building)
URL:https://indico.un.org/event/1023213/
END:VEVENT
END:VCALENDAR
